BEGIN:VCALENDAR
VERSION:2.0
PRODID:-//demosphere.net//NONSGML kigkonsult.se iCalcreator 2.22.1//
METHOD:REQUEST
X-WR-TIMEZONE:Europe/Athens
BEGIN:VEVENT
UID:https://thessaloniki.kinimatorama.net/event/125850
DTSTAMP:20210425T090000Z
DESCRIPTION:περισσότερες πληροφορίες: https://thessaloniki.kinimatorama.net
 /event/125850 
DTSTART:20210425T090000Z
DTEND:20210425T100000Z
GEO:+40.633903;+22.95648
LOCATION:Θεσσαλονίκη\, \nΣχολή Θετικών Επιστημών (ΣΘΕ) ΑΠΘ
SUMMARY:Από το Σικάγο του 1886 μέχρι τον αγώνα ενάντια στο ν/σ του Χατζηδάκ
 η
URL:https://thessaloniki.kinimatorama.net/event/125850
END:VEVENT
END:VCALENDAR
