BEGIN:VCALENDAR
VERSION:2.0
PRODID:-//demosphere.net//NONSGML kigkonsult.se iCalcreator 2.22.1//
METHOD:REQUEST
X-WR-TIMEZONE:Europe/Athens
BEGIN:VEVENT
UID:https://thessaloniki.kinimatorama.net/event/126124
DTSTAMP:20210508T143000Z
DESCRIPTION:περισσότερες πληροφορίες: https://thessaloniki.kinimatorama.net
 /event/126124 
DTSTART:20210508T143000Z
DTEND:20210508T153000Z
GEO:+40.638397;+22.946565
LOCATION:Θεσσαλονίκη\, \nΠάρκο Εργατικού Κέντρου Θεσσαλονίκης \nΑριστοτέλου
 ς με Ολύμπου
SUMMARY:Συνέλευση/Συζήτηση Εργαζομένων για το μητρώο μελών σε ΜΚΟ
URL:https://thessaloniki.kinimatorama.net/event/126124
END:VEVENT
END:VCALENDAR
