BEGIN:VCALENDAR
VERSION:2.0
PRODID:-//demosphere.net//NONSGML kigkonsult.se iCalcreator 2.22.1//
METHOD:REQUEST
X-WR-TIMEZONE:Europe/Athens
BEGIN:VEVENT
UID:https://thessaloniki.kinimatorama.net/event/126345
DTSTAMP:20210515T150000Z
DESCRIPTION:περισσότερες πληροφορίες: https://thessaloniki.kinimatorama.net
 /event/126345 
DTSTART:20210515T150000Z
DTEND:20210515T160000Z
GEO:+38.006046;+23.82764
LOCATION:Αγ.Παρασκευή\, \nπλατεία Αγίου Ιωάννη (πάνω πλατεία) \nΕλβετίας & 
 Αγίου Ιωάννου
SUMMARY:Συγκέντρωση διαμαρτυρίας ενάντια στην αστυνομική κατοχή
URL:https://thessaloniki.kinimatorama.net/event/126345
END:VEVENT
END:VCALENDAR
