BEGIN:VCALENDAR
VERSION:2.0
PRODID:-//demosphere.net//NONSGML kigkonsult.se iCalcreator 2.22.1//
METHOD:REQUEST
X-WR-TIMEZONE:Europe/Athens
BEGIN:VEVENT
UID:https://thessaloniki.kinimatorama.net/event/126408
DTSTAMP:20210519T160000Z
DESCRIPTION:περισσότερες πληροφορίες: https://thessaloniki.kinimatorama.net
 /event/126408 
DTSTART:20210519T160000Z
DTEND:20210519T170000Z
GEO:+40.633903;+22.95648
LOCATION:Θεσσαλονίκη\, \nΣχολή Θετικών Επιστημών (ΣΘΕ) ΑΠΘ
SUMMARY:Εκδήλωση με τίτλο 'Επιχειρήσεις στα πανεπιστήμια' & μπαρ οικονομική
 ς ενίσχυσης
URL:https://thessaloniki.kinimatorama.net/event/126408
END:VEVENT
END:VCALENDAR
