BEGIN:VCALENDAR
VERSION:2.0
PRODID:-//demosphere.net//NONSGML kigkonsult.se iCalcreator 2.22.1//
METHOD:REQUEST
X-WR-TIMEZONE:Europe/Athens
BEGIN:VEVENT
UID:https://thessaloniki.kinimatorama.net/event/126877
DTSTAMP:20210604T140000Z
DESCRIPTION:περισσότερες πληροφορίες: https://thessaloniki.kinimatorama.net
 /event/126877 
DTSTART:20210604T140000Z
DTEND:20210604T150000Z
GEO:+37.969017;+23.780422
LOCATION:Ζωγράφου\, \nΑναρχικό Στέκι Φιλοσοφικής \nαίθουσα 819\, 8ος όροφος
  \nΠανεπιστημιούπολη Ζωγράφου
SUMMARY:Καφενείο/Bar οικον. ενίσχυσης της Πρωτοβουλίας Αναρχικών Αγ.Αναργύρ
 ων - Καματερού
URL:https://thessaloniki.kinimatorama.net/event/126877
END:VEVENT
END:VCALENDAR
