BEGIN:VCALENDAR
VERSION:2.0
PRODID:-//demosphere.net//NONSGML kigkonsult.se iCalcreator 2.22.1//
METHOD:REQUEST
X-WR-TIMEZONE:Europe/Athens
BEGIN:VEVENT
UID:https://thessaloniki.kinimatorama.net/event/126913
DTSTAMP:20210531T130000Z
DESCRIPTION:περισσότερες πληροφορίες: https://thessaloniki.kinimatorama.net
 /event/126913 
DTSTART:20210531T130000Z
DTEND:20210531T140000Z
GEO:+40.633903;+22.95648
LOCATION:Θεσσαλονίκη\, \nΣχολή Θετικών Επιστημών (ΣΘΕ) ΑΠΘ
SUMMARY:Αδέσποτα του campu(s) - Ανοιχτή συνέλευση
URL:https://thessaloniki.kinimatorama.net/event/126913
END:VEVENT
END:VCALENDAR
