BEGIN:VCALENDAR
VERSION:2.0
PRODID:-//demosphere.net//NONSGML kigkonsult.se iCalcreator 2.22.1//
METHOD:REQUEST
X-WR-TIMEZONE:Europe/Athens
BEGIN:VEVENT
UID:https://thessaloniki.kinimatorama.net/event/127201
DTSTAMP:20210607T150000Z
DESCRIPTION:περισσότερες πληροφορίες: https://thessaloniki.kinimatorama.net
 /event/127201 
DTSTART:20210607T150000Z
DTEND:20210607T160000Z
GEO:+40.633903;+22.95648
LOCATION:Θεσσαλονίκη\, \nΣχολή Θετικών Επιστημών (ΣΘΕ) ΑΠΘ
SUMMARY:(ακυρώνεται) Προβολή του ντοκιμαντέρ '7 δισ. ύποπτοι - Η κοινωνία τ
 ης επιτήρησης'
URL:https://thessaloniki.kinimatorama.net/event/127201
END:VEVENT
END:VCALENDAR
