BEGIN:VCALENDAR
VERSION:2.0
PRODID:-//demosphere.net//NONSGML kigkonsult.se iCalcreator 2.22.1//
METHOD:REQUEST
X-WR-TIMEZONE:Europe/Athens
BEGIN:VEVENT
UID:https://thessaloniki.kinimatorama.net/event/127362
DTSTAMP:20210609T163000Z
DESCRIPTION:περισσότερες πληροφορίες: https://thessaloniki.kinimatorama.net
 /event/127362 
DTSTART:20210609T163000Z
DTEND:20210609T173000Z
GEO:+40.633903;+22.95648
LOCATION:Θεσσαλονίκη\, \nΣχολή Θετικών Επιστημών (ΣΘΕ) ΑΠΘ
SUMMARY:[Θεσσαλονίκη] Πορεία ενάντια στον αποκλεισμό του ΑΠΘ από την αστυνο
 μία
URL:https://thessaloniki.kinimatorama.net/event/127362
END:VEVENT
END:VCALENDAR
