BEGIN:VCALENDAR
VERSION:2.0
PRODID:-//demosphere.net//NONSGML kigkonsult.se iCalcreator 2.22.1//
METHOD:REQUEST
X-WR-TIMEZONE:Europe/Athens
BEGIN:VEVENT
UID:https://thessaloniki.kinimatorama.net/event/127516
DTSTAMP:20210619T180000Z
DESCRIPTION:περισσότερες πληροφορίες: https://thessaloniki.kinimatorama.net
 /event/127516 
DTSTART:20210619T180000Z
DTEND:20210619T190000Z
GEO:+37.994854;+23.740732
LOCATION:Αθήνα\, \nΠλατεία Πρωτομαγιάς \nΠεδίον του Άρεως
SUMMARY:Μπαρ οικονομικής ενίσχυσης για τα 6 συντρόφια\, Πατρα 1/3/2018
URL:https://thessaloniki.kinimatorama.net/event/127516
END:VEVENT
END:VCALENDAR
