BEGIN:VCALENDAR
VERSION:2.0
PRODID:-//demosphere.net//NONSGML kigkonsult.se iCalcreator 2.22.1//
METHOD:REQUEST
X-WR-TIMEZONE:Europe/Athens
BEGIN:VEVENT
UID:https://thessaloniki.kinimatorama.net/event/127804
DTSTAMP:20210622T063000Z
DESCRIPTION:περισσότερες πληροφορίες: https://thessaloniki.kinimatorama.net
 /event/127804 
DTSTART:20210622T063000Z
DTEND:20210622T073000Z
GEO:+37.995376;+23.743086
LOCATION:Αθήνα\, \nΔικαστήρια Ευελπίδων
SUMMARY:Συγκέντρωση στην απολογία του δολοφόνου της Καρολάιν Κράουτς
URL:https://thessaloniki.kinimatorama.net/event/127804
END:VEVENT
END:VCALENDAR
