BEGIN:VCALENDAR
VERSION:2.0
PRODID:-//demosphere.net//NONSGML kigkonsult.se iCalcreator 2.22.1//
METHOD:REQUEST
X-WR-TIMEZONE:Europe/Athens
BEGIN:VEVENT
UID:https://thessaloniki.kinimatorama.net/event/127999
DTSTAMP:20210704T180000Z
DESCRIPTION:περισσότερες πληροφορίες: https://thessaloniki.kinimatorama.net
 /event/127999 
DTSTART:20210704T180000Z
DTEND:20210704T190000Z
GEO:+37.970988;+23.714424
LOCATION:Αθήνα\, \nΚατάληψη ΠΙΚΠΑ \nΤιμοδήμου κ Αντωνιάδου \nΆνω Πετράλωνα 
 \n(στα Πέτρινα)
SUMMARY:Θερινό Σινεμά στην αυλή της κατάληψης πρώην ΠΙΚΠΑ…«Απ' τα κόκκαλα β
 γαλμένη»
URL:https://thessaloniki.kinimatorama.net/event/127999
END:VEVENT
END:VCALENDAR
