BEGIN:VCALENDAR
VERSION:2.0
PRODID:-//demosphere.net//NONSGML kigkonsult.se iCalcreator 2.22.1//
METHOD:REQUEST
X-WR-TIMEZONE:Europe/Athens
BEGIN:VEVENT
UID:https://thessaloniki.kinimatorama.net/event/128517
DTSTAMP:20210721T060000Z
DESCRIPTION:περισσότερες πληροφορίες: https://thessaloniki.kinimatorama.net
 /event/128517 
DTSTART:20210721T060000Z
DTEND:20210721T070000Z
GEO:+40.639326;+22.932823
LOCATION:Θεσσαλονίκη\, \nΔικαστήρια Θεσσαλονίκης
SUMMARY:Συγκέντρωση αλληλεγγύης στον αναρχικό αγωνιστή Γ.Δημητράκη
URL:https://thessaloniki.kinimatorama.net/event/128517
END:VEVENT
END:VCALENDAR
