BEGIN:VCALENDAR
VERSION:2.0
PRODID:-//demosphere.net//NONSGML kigkonsult.se iCalcreator 2.22.1//
METHOD:REQUEST
X-WR-TIMEZONE:Europe/Athens
BEGIN:VEVENT
UID:https://thessaloniki.kinimatorama.net/event/12861
DTSTAMP:20110920T173000Z
DESCRIPTION:περισσότερες πληροφορίες: https://thessaloniki.kinimatorama.net
 /event/12861 
DTSTART:20110920T173000Z
DTEND:20110920T183000Z
GEO:+38.00095;+23.737762
LOCATION:Αθήνα\, \nΔημοτική Αγορά Κυψέλης \nΦωκίωνος Νέγρη 42
SUMMARY:Βιβλιοπαρουσίαση: Επτά μέρες βροχή
URL:https://thessaloniki.kinimatorama.net/event/12861
END:VEVENT
END:VCALENDAR
