BEGIN:VCALENDAR
VERSION:2.0
PRODID:-//demosphere.net//NONSGML kigkonsult.se iCalcreator 2.22.1//
METHOD:REQUEST
X-WR-TIMEZONE:Europe/Athens
BEGIN:VEVENT
UID:https://thessaloniki.kinimatorama.net/event/12862
DTSTAMP:20110918T140000Z
DESCRIPTION:περισσότερες πληροφορίες: https://thessaloniki.kinimatorama.net
 /event/12862 
DTSTART:20110918T140000Z
DTEND:20110918T150000Z
GEO:+38.00095;+23.737762
LOCATION:Αθήνα\, \nΔημοτική Αγορά Κυψέλης \nΦωκίωνος Νέγρη 42
SUMMARY:Ανοιχτή συνέλευση Κατάληψης Δημοτικής Αγοράς Κυψέλης
URL:https://thessaloniki.kinimatorama.net/event/12862
END:VEVENT
END:VCALENDAR
