BEGIN:VCALENDAR
VERSION:2.0
PRODID:-//demosphere.net//NONSGML kigkonsult.se iCalcreator 2.22.1//
METHOD:REQUEST
X-WR-TIMEZONE:Europe/Athens
BEGIN:VEVENT
UID:https://thessaloniki.kinimatorama.net/event/128713
DTSTAMP:20210808T180000Z
DESCRIPTION:περισσότερες πληροφορίες: https://thessaloniki.kinimatorama.net
 /event/128713 
DTSTART:20210808T180000Z
DTEND:20210808T190000Z
GEO:+37.904202;+23.751378
LOCATION:Αργυρούπολη\, \nΥπόστεγο \n(Αυτοδιαχειριζόμενο Στέκι Αργυρούπολης)
  \n25ης Μαρτίου 38 \n(πλησίον σταθμού Μετρό ΑΡΓΥΡΟΥΠΟΛΗ)
SUMMARY:Προβολή του 'Wild at Heart' & συγκέντρωση ειδών για τους/τις πυρόπλ
 ηκτους/ες
URL:https://thessaloniki.kinimatorama.net/event/128713
END:VEVENT
END:VCALENDAR
