BEGIN:VCALENDAR
VERSION:2.0
PRODID:-//demosphere.net//NONSGML kigkonsult.se iCalcreator 2.22.1//
METHOD:REQUEST
X-WR-TIMEZONE:Europe/Athens
BEGIN:VEVENT
UID:https://thessaloniki.kinimatorama.net/event/129328
DTSTAMP:20210914T060000Z
DESCRIPTION:περισσότερες πληροφορίες: https://thessaloniki.kinimatorama.net
 /event/129328 
DTSTART:20210914T060000Z
DTEND:20210914T070000Z
GEO:+40.639326;+22.932823
LOCATION:Θεσσαλονίκη\, \nΔικαστήρια Θεσσαλονίκης
SUMMARY:(αναβάλλεται) Αλληλεγγυη στους 6 συλληφθεντες της πορειας του πολυτ
 εχνειου 2020
URL:https://thessaloniki.kinimatorama.net/event/129328
END:VEVENT
END:VCALENDAR
