BEGIN:VCALENDAR
VERSION:2.0
PRODID:-//demosphere.net//NONSGML kigkonsult.se iCalcreator 2.22.1//
METHOD:REQUEST
X-WR-TIMEZONE:Europe/Athens
BEGIN:VEVENT
UID:https://thessaloniki.kinimatorama.net/event/129415
DTSTAMP:20210918T090000Z
DESCRIPTION:περισσότερες πληροφορίες: https://thessaloniki.kinimatorama.net
 /event/129415 
DTSTART:20210918T090000Z
DTEND:20210918T100000Z
GEO:+40.633903;+22.95648
LOCATION:Θεσσαλονίκη\, \nΣχολή Θετικών Επιστημών (ΣΘΕ) ΑΠΘ
SUMMARY:Ανοιχτή Συνέλευση Ελευθεριακού Σχήματος ΔΙΠΑΕ
URL:https://thessaloniki.kinimatorama.net/event/129415
END:VEVENT
END:VCALENDAR
