BEGIN:VCALENDAR
VERSION:2.0
PRODID:-//demosphere.net//NONSGML kigkonsult.se iCalcreator 2.22.1//
METHOD:REQUEST
X-WR-TIMEZONE:Europe/Athens
BEGIN:VEVENT
UID:https://thessaloniki.kinimatorama.net/event/129508
DTSTAMP:20210918T150000Z
DESCRIPTION:περισσότερες πληροφορίες: https://thessaloniki.kinimatorama.net
 /event/129508 
DTSTART:20210918T150000Z
DTEND:20210918T160000Z
GEO:+39.555039;+21.767766
LOCATION:Τρίκαλα\, \nΠλατεία Ρήγα Φεραίου
SUMMARY:8 Xρονια μετα τη δολοφονια του Παυλου Φυσσα
URL:https://thessaloniki.kinimatorama.net/event/129508
END:VEVENT
END:VCALENDAR
