BEGIN:VCALENDAR
VERSION:2.0
PRODID:-//demosphere.net//NONSGML kigkonsult.se iCalcreator 2.22.1//
METHOD:REQUEST
X-WR-TIMEZONE:Europe/Athens
BEGIN:VEVENT
UID:https://thessaloniki.kinimatorama.net/event/129626
DTSTAMP:20210924T070000Z
DESCRIPTION:περισσότερες πληροφορίες: https://thessaloniki.kinimatorama.net
 /event/129626 
DTSTART:20210924T070000Z
DTEND:20210924T080000Z
GEO:+37.995376;+23.743086
LOCATION:Αθήνα\, \nΔικαστήρια Ευελπίδων
SUMMARY:Συγκέντρωση αλληλεγγύης στα δικαστήρια της ανακατάληψης της Παναιτω
 λίου 21
URL:https://thessaloniki.kinimatorama.net/event/129626
END:VEVENT
END:VCALENDAR
