BEGIN:VCALENDAR
VERSION:2.0
PRODID:-//demosphere.net//NONSGML kigkonsult.se iCalcreator 2.22.1//
METHOD:REQUEST
X-WR-TIMEZONE:Europe/Athens
BEGIN:VEVENT
UID:https://thessaloniki.kinimatorama.net/event/129636
DTSTAMP:20210929T060000Z
DESCRIPTION:περισσότερες πληροφορίες: https://thessaloniki.kinimatorama.net
 /event/129636 
DTSTART:20210929T060000Z
DTEND:20210929T070000Z
GEO:+37.995376;+23.743086
LOCATION:Αθήνα\, \nΔικαστήρια Ευελπίδων
SUMMARY:Κάλεσμα στη δίκη της πρώτης εκκένωσης της κατάληψης GARE
URL:https://thessaloniki.kinimatorama.net/event/129636
END:VEVENT
END:VCALENDAR
