BEGIN:VCALENDAR
VERSION:2.0
PRODID:-//demosphere.net//NONSGML kigkonsult.se iCalcreator 2.22.1//
METHOD:REQUEST
X-WR-TIMEZONE:Europe/Athens
BEGIN:VEVENT
UID:https://thessaloniki.kinimatorama.net/event/129844
DTSTAMP:20210930T153000Z
DESCRIPTION:περισσότερες πληροφορίες: https://thessaloniki.kinimatorama.net
 /event/129844 
DTSTART:20210930T153000Z
DTEND:20210930T163000Z
GEO:+40.633903;+22.95648
LOCATION:Θεσσαλονίκη\, \nΣχολή Θετικών Επιστημών (ΣΘΕ) ΑΠΘ
SUMMARY:Ανοιχτή Αντιφασιστική συνέλευση για τον συντονισμό των επόμενων δρά
 σεων
URL:https://thessaloniki.kinimatorama.net/event/129844
END:VEVENT
END:VCALENDAR
