BEGIN:VCALENDAR
VERSION:2.0
PRODID:-//demosphere.net//NONSGML kigkonsult.se iCalcreator 2.22.1//
METHOD:REQUEST
X-WR-TIMEZONE:Europe/Athens
BEGIN:VEVENT
UID:https://thessaloniki.kinimatorama.net/event/129932
DTSTAMP:20211003T063000Z
DESCRIPTION:περισσότερες πληροφορίες: https://thessaloniki.kinimatorama.net
 /event/129932 
DTSTART:20211003T063000Z
DTEND:20211003T073000Z
GEO:+40.639326;+22.932823
LOCATION:Θεσσαλονίκη\, \nΔικαστήρια Θεσσαλονίκης
SUMMARY:Συγκέντρωση αλληλεγγύης στους 2 συλληφθέντες της χθεσινής αντιφασισ
 τικής πορείας
URL:https://thessaloniki.kinimatorama.net/event/129932
END:VEVENT
END:VCALENDAR
