BEGIN:VCALENDAR
VERSION:2.0
PRODID:-//demosphere.net//NONSGML kigkonsult.se iCalcreator 2.22.1//
METHOD:REQUEST
X-WR-TIMEZONE:Europe/Athens
BEGIN:VEVENT
UID:https://thessaloniki.kinimatorama.net/event/129965
DTSTAMP:20211005T153000Z
DESCRIPTION:περισσότερες πληροφορίες: https://thessaloniki.kinimatorama.net
 /event/129965 
DTSTART:20211005T153000Z
DTEND:20211005T163000Z
GEO:+40.633903;+22.95648
LOCATION:Θεσσαλονίκη\, \nΣχολή Θετικών Επιστημών (ΣΘΕ) ΑΠΘ
SUMMARY:(ακυρώνεται) Ανοιχτή αντιφασιστική συνέλευση
URL:https://thessaloniki.kinimatorama.net/event/129965
END:VEVENT
END:VCALENDAR
