BEGIN:VCALENDAR
VERSION:2.0
PRODID:-//demosphere.net//NONSGML kigkonsult.se iCalcreator 2.22.1//
METHOD:REQUEST
X-WR-TIMEZONE:Europe/Athens
BEGIN:VEVENT
UID:https://thessaloniki.kinimatorama.net/event/130198
DTSTAMP:20211009T090000Z
DESCRIPTION:περισσότερες πληροφορίες: https://thessaloniki.kinimatorama.net
 /event/130198 
DTSTART:20211009T090000Z
DTEND:20211009T100000Z
GEO:+39.555039;+21.767766
LOCATION:Τρίκαλα\, \nΠλατεία Ρήγα Φεραίου
SUMMARY:Αντιφασιστική συγκέντρωση έναν χρόνο μετά την απόφαση της δίκης της
  Χρυσής Αυγής
URL:https://thessaloniki.kinimatorama.net/event/130198
END:VEVENT
END:VCALENDAR
