BEGIN:VCALENDAR
VERSION:2.0
PRODID:-//demosphere.net//NONSGML kigkonsult.se iCalcreator 2.22.1//
METHOD:REQUEST
X-WR-TIMEZONE:Europe/Athens
BEGIN:VEVENT
UID:https://thessaloniki.kinimatorama.net/event/130472
DTSTAMP:20211018T160000Z
DESCRIPTION:περισσότερες πληροφορίες: https://thessaloniki.kinimatorama.net
 /event/130472 
DTSTART:20211018T160000Z
DTEND:20211018T170000Z
GEO:+40.633903;+22.95648
LOCATION:Θεσσαλονίκη\, \nΣχολή Θετικών Επιστημών (ΣΘΕ) ΑΠΘ
SUMMARY:Ανοιχτή συζήτηση: κρατική διαχείριση πανδημίας και ελεγχόμενη είσοδ
 ος στις σχολές
URL:https://thessaloniki.kinimatorama.net/event/130472
END:VEVENT
END:VCALENDAR
