BEGIN:VCALENDAR
VERSION:2.0
PRODID:-//demosphere.net//NONSGML kigkonsult.se iCalcreator 2.22.1//
METHOD:REQUEST
X-WR-TIMEZONE:Europe/Athens
BEGIN:VEVENT
UID:https://thessaloniki.kinimatorama.net/event/131030
DTSTAMP:20211120T100000Z
DESCRIPTION:περισσότερες πληροφορίες: https://thessaloniki.kinimatorama.net
 /event/131030 
DTSTART:20211120T100000Z
DTEND:20211120T110000Z
GEO:+37.970988;+23.714424
LOCATION:Αθήνα\, \nΚατάληψη ΠΙΚΠΑ \nΤιμοδήμου κ Αντωνιάδου \nΆνω Πετράλωνα 
 \n(στα Πέτρινα)
SUMMARY:Εργαστήρι παιδικών δράσεων «Φτου Ξελευτερία» στην κατάληψη πρώην ΠΙ
 ΚΠΑ
URL:https://thessaloniki.kinimatorama.net/event/131030
END:VEVENT
END:VCALENDAR
