BEGIN:VCALENDAR
VERSION:2.0
PRODID:-//demosphere.net//NONSGML kigkonsult.se iCalcreator 2.22.1//
METHOD:REQUEST
X-WR-TIMEZONE:Europe/Athens
BEGIN:VEVENT
UID:https://thessaloniki.kinimatorama.net/event/13117
DTSTAMP:20111004T173000Z
DESCRIPTION:περισσότερες πληροφορίες: https://thessaloniki.kinimatorama.net
 /event/13117 
DTSTART:20111004T173000Z
DTEND:20111004T183000Z
GEO:+38.00095;+23.737762
LOCATION:Αθήνα\, \nΔημοτική Αγορά Κυψέλης \nΦωκίωνος Νέγρη 42
SUMMARY:Λογοτεχνικές Βραδιές: Αν ήταν όλα αλλιώς
URL:https://thessaloniki.kinimatorama.net/event/13117
END:VEVENT
END:VCALENDAR
