BEGIN:VCALENDAR
VERSION:2.0
PRODID:-//demosphere.net//NONSGML kigkonsult.se iCalcreator 2.22.1//
METHOD:REQUEST
X-WR-TIMEZONE:Europe/Athens
BEGIN:VEVENT
UID:https://thessaloniki.kinimatorama.net/event/13118
DTSTAMP:20110927T173000Z
DESCRIPTION:περισσότερες πληροφορίες: https://thessaloniki.kinimatorama.net
 /event/13118 
DTSTART:20110927T173000Z
DTEND:20110927T183000Z
GEO:+38.00095;+23.737762
LOCATION:Αθήνα\, \nΔημοτική Αγορά Κυψέλης \nΦωκίωνος Νέγρη 42
SUMMARY:Λογοτεχνικές Βραδιές: Στην απέναντι όχθη
URL:https://thessaloniki.kinimatorama.net/event/13118
END:VEVENT
END:VCALENDAR
