BEGIN:VCALENDAR
VERSION:2.0
PRODID:-//demosphere.net//NONSGML kigkonsult.se iCalcreator 2.22.1//
METHOD:REQUEST
X-WR-TIMEZONE:Europe/Athens
BEGIN:VEVENT
UID:https://thessaloniki.kinimatorama.net/event/131293
DTSTAMP:20211119T110000Z
DESCRIPTION:περισσότερες πληροφορίες: https://thessaloniki.kinimatorama.net
 /event/131293 
DTSTART:20211119T110000Z
DTEND:20211119T120000Z
GEO:+37.969017;+23.780422
LOCATION:Ζωγράφου\, \nΑναρχικό Στέκι Φιλοσοφικής \nαίθουσα 819\, 8ος όροφος
  \nΠανεπιστημιούπολη Ζωγράφου
SUMMARY:Βιβλιοπωλείο Μαυροκόκκινο Νήμα
URL:https://thessaloniki.kinimatorama.net/event/131293
END:VEVENT
END:VCALENDAR
