BEGIN:VCALENDAR
VERSION:2.0
PRODID:-//demosphere.net//NONSGML kigkonsult.se iCalcreator 2.22.1//
METHOD:REQUEST
X-WR-TIMEZONE:Europe/Athens
BEGIN:VEVENT
UID:https://thessaloniki.kinimatorama.net/event/131472
DTSTAMP:20211111T150000Z
DESCRIPTION:περισσότερες πληροφορίες: https://thessaloniki.kinimatorama.net
 /event/131472 
DTSTART:20211111T150000Z
DTEND:20211111T160000Z
GEO:+37.969017;+23.780422
LOCATION:Ζωγράφου\, \nΑναρχικό Στέκι Φιλοσοφικής \nαίθουσα 819\, 8ος όροφος
  \nΠανεπιστημιούπολη Ζωγράφου
SUMMARY:Συνέλευση για τη συζήτηση δράσεων & την ανάληψη αγωνιστικών πρωτοβο
 υλιών
URL:https://thessaloniki.kinimatorama.net/event/131472
END:VEVENT
END:VCALENDAR
