BEGIN:VCALENDAR
VERSION:2.0
PRODID:-//demosphere.net//NONSGML kigkonsult.se iCalcreator 2.22.1//
METHOD:REQUEST
X-WR-TIMEZONE:Europe/Athens
BEGIN:VEVENT
UID:https://thessaloniki.kinimatorama.net/event/131492
DTSTAMP:20211112T190000Z
DESCRIPTION:περισσότερες πληροφορίες: https://thessaloniki.kinimatorama.net
 /event/131492 
DTSTART:20211112T190000Z
DTEND:20211112T200000Z
GEO:+40.633903;+22.95648
LOCATION:Θεσσαλονίκη\, \nΣχολή Θετικών Επιστημών (ΣΘΕ) ΑΠΘ
SUMMARY:Ρεμπέτικο γλέντι για την οικονομική ενίσχυση των δράσεων του ΦΣ Πλη
 ροφορικής
URL:https://thessaloniki.kinimatorama.net/event/131492
END:VEVENT
END:VCALENDAR
