BEGIN:VCALENDAR
VERSION:2.0
PRODID:-//demosphere.net//NONSGML kigkonsult.se iCalcreator 2.22.1//
METHOD:REQUEST
X-WR-TIMEZONE:Europe/Athens
BEGIN:VEVENT
UID:https://thessaloniki.kinimatorama.net/event/131498
DTSTAMP:20211114T130000Z
DESCRIPTION:περισσότερες πληροφορίες: https://thessaloniki.kinimatorama.net
 /event/131498 
DTSTART:20211114T130000Z
DTEND:20211114T140000Z
GEO:+37.994854;+23.740732
LOCATION:Αθήνα\, \nΠλατεία Πρωτομαγιάς \nΠεδίον του Άρεως
SUMMARY:Συντονισμός φεμινιστικών\, queer συλλογικοτήτων και ατομικοτήτων εν
  όψει 25
URL:https://thessaloniki.kinimatorama.net/event/131498
END:VEVENT
END:VCALENDAR
