BEGIN:VCALENDAR
VERSION:2.0
PRODID:-//demosphere.net//NONSGML kigkonsult.se iCalcreator 2.22.1//
METHOD:REQUEST
X-WR-TIMEZONE:Europe/Athens
BEGIN:VEVENT
UID:https://thessaloniki.kinimatorama.net/event/131676
DTSTAMP:20211117T160000Z
DESCRIPTION:περισσότερες πληροφορίες: https://thessaloniki.kinimatorama.net
 /event/131676 
DTSTART:20211117T160000Z
DTEND:20211117T170000Z
GEO:+39.555039;+21.767766
LOCATION:Τρίκαλα\, \nΠλατεία Ρήγα Φεραίου
SUMMARY:Συγκέντρωση αγώνα\, μνήμης και τιμής για την επέτειο της εξέγερσης 
 του Πολυτεχνείου
URL:https://thessaloniki.kinimatorama.net/event/131676
END:VEVENT
END:VCALENDAR
