BEGIN:VCALENDAR
VERSION:2.0
PRODID:-//demosphere.net//NONSGML kigkonsult.se iCalcreator 2.22.1//
METHOD:REQUEST
X-WR-TIMEZONE:Europe/Athens
BEGIN:VEVENT
UID:https://thessaloniki.kinimatorama.net/event/131902
DTSTAMP:20211126T100000Z
DESCRIPTION:περισσότερες πληροφορίες: https://thessaloniki.kinimatorama.net
 /event/131902 
DTSTART:20211126T100000Z
DTEND:20211126T110000Z
GEO:+40.633903;+22.95648
LOCATION:Θεσσαλονίκη\, \nΣχολή Θετικών Επιστημών (ΣΘΕ) ΑΠΘ
SUMMARY:Μικροφωνική & Συγκέντρωση αλληλεγγύης στην Κατάληψη 'στέκι στο Βιολ
 ογικό'
URL:https://thessaloniki.kinimatorama.net/event/131902
END:VEVENT
END:VCALENDAR
