BEGIN:VCALENDAR
VERSION:2.0
PRODID:-//demosphere.net//NONSGML kigkonsult.se iCalcreator 2.22.1//
METHOD:REQUEST
X-WR-TIMEZONE:Europe/Athens
BEGIN:VEVENT
UID:https://thessaloniki.kinimatorama.net/event/132061
DTSTAMP:20211201T153000Z
DESCRIPTION:περισσότερες πληροφορίες: https://thessaloniki.kinimatorama.net
 /event/132061 
DTSTART:20211201T153000Z
DTEND:20211201T163000Z
GEO:+37.969017;+23.780422
LOCATION:Ζωγράφου\, \nΑναρχικό Στέκι Φιλοσοφικής \nαίθουσα 819\, 8ος όροφος
  \nΠανεπιστημιούπολη Ζωγράφου
SUMMARY:Κάλεσμα – συζήτηση για την οργάνωση της αναρχικής φοιτητικής παρουσ
 ίας εν όψει 6/12
URL:https://thessaloniki.kinimatorama.net/event/132061
END:VEVENT
END:VCALENDAR
