BEGIN:VCALENDAR
VERSION:2.0
PRODID:-//demosphere.net//NONSGML kigkonsult.se iCalcreator 2.22.1//
METHOD:REQUEST
X-WR-TIMEZONE:Europe/Athens
BEGIN:VEVENT
UID:https://thessaloniki.kinimatorama.net/event/132079
DTSTAMP:20211203T180000Z
DESCRIPTION:περισσότερες πληροφορίες: https://thessaloniki.kinimatorama.net
 /event/132079 
DTSTART:20211203T180000Z
DTEND:20211203T190000Z
GEO:+40.633903;+22.95648
LOCATION:Θεσσαλονίκη\, \nΣχολή Θετικών Επιστημών (ΣΘΕ) ΑΠΘ
SUMMARY:Προβολή Ντοκιμαντέρ «Το χρονικό μιας προαναγγελθείσας δολοφονίας»
URL:https://thessaloniki.kinimatorama.net/event/132079
END:VEVENT
END:VCALENDAR
