BEGIN:VCALENDAR
VERSION:2.0
PRODID:-//demosphere.net//NONSGML kigkonsult.se iCalcreator 2.22.1//
METHOD:REQUEST
X-WR-TIMEZONE:Europe/Athens
BEGIN:VEVENT
UID:https://thessaloniki.kinimatorama.net/event/132080
DTSTAMP:20211203T203000Z
DESCRIPTION:περισσότερες πληροφορίες: https://thessaloniki.kinimatorama.net
 /event/132080 
DTSTART:20211203T203000Z
DTEND:20211203T213000Z
GEO:+40.633903;+22.95648
LOCATION:Θεσσαλονίκη\, \nΣχολή Θετικών Επιστημών (ΣΘΕ) ΑΠΘ
SUMMARY:Ρεμπέτικο Γλέντι Οικονομικής Ενίσχυσης
URL:https://thessaloniki.kinimatorama.net/event/132080
END:VEVENT
END:VCALENDAR
