BEGIN:VCALENDAR
VERSION:2.0
PRODID:-//demosphere.net//NONSGML kigkonsult.se iCalcreator 2.22.1//
METHOD:REQUEST
X-WR-TIMEZONE:Europe/Athens
BEGIN:VEVENT
UID:https://thessaloniki.kinimatorama.net/event/132593
DTSTAMP:20211209T210000Z
DESCRIPTION:περισσότερες πληροφορίες: https://thessaloniki.kinimatorama.net
 /event/132593 
DTSTART:20211209T210000Z
DTEND:20211209T220000Z
GEO:+40.633903;+22.95648
LOCATION:Θεσσαλονίκη\, \nΣχολή Θετικών Επιστημών (ΣΘΕ) ΑΠΘ
SUMMARY:ΣΥΓΚΕΝΤΡΩΣΗ ΤΩΡΑ ΣΤΗ ΣΘΕ
URL:https://thessaloniki.kinimatorama.net/event/132593
END:VEVENT
END:VCALENDAR
