BEGIN:VCALENDAR
VERSION:2.0
PRODID:-//demosphere.net//NONSGML kigkonsult.se iCalcreator 2.22.1//
METHOD:REQUEST
X-WR-TIMEZONE:Europe/Athens
BEGIN:VEVENT
UID:https://thessaloniki.kinimatorama.net/event/132602
DTSTAMP:20211210T110000Z
DESCRIPTION:περισσότερες πληροφορίες: https://thessaloniki.kinimatorama.net
 /event/132602 
DTSTART:20211210T110000Z
DTEND:20211210T120000Z
GEO:+40.633903;+22.95648
LOCATION:Θεσσαλονίκη\, \nΣχολή Θετικών Επιστημών (ΣΘΕ) ΑΠΘ
SUMMARY:[Θεσσαλονίκη] Συγκέντρωση - Πορεία υπεράσπισης του πανεπιστημιακού 
 ασύλου
URL:https://thessaloniki.kinimatorama.net/event/132602
END:VEVENT
END:VCALENDAR
