BEGIN:VCALENDAR
VERSION:2.0
PRODID:-//demosphere.net//NONSGML kigkonsult.se iCalcreator 2.22.1//
METHOD:REQUEST
X-WR-TIMEZONE:Europe/Athens
BEGIN:VEVENT
UID:https://thessaloniki.kinimatorama.net/event/132755
DTSTAMP:20220113T180000Z
DESCRIPTION:περισσότερες πληροφορίες: https://thessaloniki.kinimatorama.net
 /event/132755 
DTSTART:20220113T180000Z
DTEND:20220113T190000Z
GEO:+40.633903;+22.95648
LOCATION:Θεσσαλονίκη\, \nΣχολή Θετικών Επιστημών (ΣΘΕ) ΑΠΘ
SUMMARY:Ρεμπέτικο γλέντι + vegan κουζίνα για τα δικαστικά έξοδα των συλληφθ
 έντων στις 12/1
URL:https://thessaloniki.kinimatorama.net/event/132755
END:VEVENT
END:VCALENDAR
