BEGIN:VCALENDAR
VERSION:2.0
PRODID:-//demosphere.net//NONSGML kigkonsult.se iCalcreator 2.22.1//
METHOD:REQUEST
X-WR-TIMEZONE:Europe/Athens
BEGIN:VEVENT
UID:https://thessaloniki.kinimatorama.net/event/132756
DTSTAMP:20211215T110000Z
DESCRIPTION:περισσότερες πληροφορίες: https://thessaloniki.kinimatorama.net
 /event/132756 
DTSTART:20211215T110000Z
DTEND:20211215T120000Z
GEO:+40.633903;+22.95648
LOCATION:Θεσσαλονίκη\, \nΣχολή Θετικών Επιστημών (ΣΘΕ) ΑΠΘ
SUMMARY:Μικροφωνική συγκέντρωση για την υπεράσπιση της κατάληψης ''στέκι στ
 ο βιολογικό''
URL:https://thessaloniki.kinimatorama.net/event/132756
END:VEVENT
END:VCALENDAR
