BEGIN:VCALENDAR
VERSION:2.0
PRODID:-//demosphere.net//NONSGML kigkonsult.se iCalcreator 2.22.1//
METHOD:REQUEST
X-WR-TIMEZONE:Europe/Athens
BEGIN:VEVENT
UID:https://thessaloniki.kinimatorama.net/event/13281
DTSTAMP:20111015T183000Z
DESCRIPTION:περισσότερες πληροφορίες: https://thessaloniki.kinimatorama.net
 /event/13281 
DTSTART:20111015T183000Z
DTEND:20111015T193000Z
GEO:+38.00095;+23.737762
LOCATION:Αθήνα\, \nΔημοτική Αγορά Κυψέλης \nΦωκίωνος Νέγρη 42
SUMMARY: Πάρτυ οικονομικής ενίσχυσης του Συλλόγου Υπαλλήλων Βιβλίου
URL:https://thessaloniki.kinimatorama.net/event/13281
END:VEVENT
END:VCALENDAR
