BEGIN:VCALENDAR
VERSION:2.0
PRODID:-//demosphere.net//NONSGML kigkonsult.se iCalcreator 2.22.1//
METHOD:REQUEST
X-WR-TIMEZONE:Europe/Athens
BEGIN:VEVENT
UID:https://thessaloniki.kinimatorama.net/event/132915
DTSTAMP:20211220T070000Z
DESCRIPTION:περισσότερες πληροφορίες: https://thessaloniki.kinimatorama.net
 /event/132915 
DTSTART:20211220T070000Z
DTEND:20211220T080000Z
GEO:+37.995376;+23.743086
LOCATION:Αθήνα\, \nΔικαστήρια Ευελπίδων
SUMMARY:Κάλεσμα των συλληφθεισών από την προπαγανδιστική δράση στην Ακρόπολ
 η
URL:https://thessaloniki.kinimatorama.net/event/132915
END:VEVENT
END:VCALENDAR
