BEGIN:VCALENDAR
VERSION:2.0
PRODID:-//demosphere.net//NONSGML kigkonsult.se iCalcreator 2.22.1//
METHOD:REQUEST
X-WR-TIMEZONE:Europe/Athens
BEGIN:VEVENT
UID:https://thessaloniki.kinimatorama.net/event/133119
DTSTAMP:20220102T120000Z
DESCRIPTION:περισσότερες πληροφορίες: https://thessaloniki.kinimatorama.net
 /event/133119 
DTSTART:20220102T120000Z
DTEND:20220102T130000Z
GEO:+40.62957;+22.964948
LOCATION:Θεσσαλονίκη\, \nΑ' φοιτητική εστία ΑΠΘ \nοδός Στίλπωνος Κυριακίδη 
 \n(πάνω από το Ιβανώφειο) \nλεωφορεία 17\,37: στάση Καυτατζόγλειο \nλεωφορ
 εία 15\,16: στάση Εστίες
SUMMARY:Ανοιχτή συνέλευση για την εκκένωση στο Στέκι στο Βιολογικό
URL:https://thessaloniki.kinimatorama.net/event/133119
END:VEVENT
END:VCALENDAR
