BEGIN:VCALENDAR
VERSION:2.0
PRODID:-//demosphere.net//NONSGML kigkonsult.se iCalcreator 2.22.1//
METHOD:REQUEST
X-WR-TIMEZONE:Europe/Athens
BEGIN:VEVENT
UID:https://thessaloniki.kinimatorama.net/event/133184
DTSTAMP:20220104T090000Z
DESCRIPTION:περισσότερες πληροφορίες: https://thessaloniki.kinimatorama.net
 /event/133184 
DTSTART:20220104T090000Z
DTEND:20220104T100000Z
GEO:+40.633903;+22.95648
LOCATION:Θεσσαλονίκη\, \nΣχολή Θετικών Επιστημών (ΣΘΕ) ΑΠΘ
SUMMARY:Συγκέντρωση υπεράσπισης του ασύλου/ Αλληλεγγύης στο στέκι στο Βιολο
 γικό
URL:https://thessaloniki.kinimatorama.net/event/133184
END:VEVENT
END:VCALENDAR
