BEGIN:VCALENDAR
VERSION:2.0
PRODID:-//demosphere.net//NONSGML kigkonsult.se iCalcreator 2.22.1//
METHOD:REQUEST
X-WR-TIMEZONE:Europe/Athens
BEGIN:VEVENT
UID:https://thessaloniki.kinimatorama.net/event/133282
DTSTAMP:20220109T140000Z
DESCRIPTION:περισσότερες πληροφορίες: https://thessaloniki.kinimatorama.net
 /event/133282 
DTSTART:20220109T140000Z
DTEND:20220109T150000Z
GEO:+40.633903;+22.95648
LOCATION:Θεσσαλονίκη\, \nΣχολή Θετικών Επιστημών (ΣΘΕ) ΑΠΘ
SUMMARY:Ανοιχτή συνέλευση για την εκκένωση στο Στέκι στο Βιολογικό
URL:https://thessaloniki.kinimatorama.net/event/133282
END:VEVENT
END:VCALENDAR
