BEGIN:VCALENDAR
VERSION:2.0
PRODID:-//demosphere.net//NONSGML kigkonsult.se iCalcreator 2.22.1//
METHOD:REQUEST
X-WR-TIMEZONE:Europe/Athens
BEGIN:VEVENT
UID:https://thessaloniki.kinimatorama.net/event/133340
DTSTAMP:20220110T073000Z
DESCRIPTION:περισσότερες πληροφορίες: https://thessaloniki.kinimatorama.net
 /event/133340 
DTSTART:20220110T073000Z
DTEND:20220110T083000Z
GEO:+40.633903;+22.95648
LOCATION:Θεσσαλονίκη\, \nΣχολή Θετικών Επιστημών (ΣΘΕ) ΑΠΘ
SUMMARY:μικροφωνική συγκέντρωση στήριξης της νέας κατάληψης ''στέκι στο βιο
 λογικο''
URL:https://thessaloniki.kinimatorama.net/event/133340
END:VEVENT
END:VCALENDAR
