BEGIN:VCALENDAR
VERSION:2.0
PRODID:-//demosphere.net//NONSGML kigkonsult.se iCalcreator 2.22.1//
METHOD:REQUEST
X-WR-TIMEZONE:Europe/Athens
BEGIN:VEVENT
UID:https://thessaloniki.kinimatorama.net/event/133393
DTSTAMP:20220112T170000Z
DESCRIPTION:περισσότερες πληροφορίες: https://thessaloniki.kinimatorama.net
 /event/133393 
DTSTART:20220112T170000Z
DTEND:20220112T180000Z
GEO:+40.633903;+22.95648
LOCATION:Θεσσαλονίκη\, \nΣχολή Θετικών Επιστημών (ΣΘΕ) ΑΠΘ
SUMMARY:Εκδήλωση-συζήτηση σχετικά με τις εξελίξεις στις Σκουριές και με το 
 Hambacher Forst
URL:https://thessaloniki.kinimatorama.net/event/133393
END:VEVENT
END:VCALENDAR
