BEGIN:VCALENDAR
VERSION:2.0
PRODID:-//demosphere.net//NONSGML kigkonsult.se iCalcreator 2.22.1//
METHOD:REQUEST
X-WR-TIMEZONE:Europe/Athens
BEGIN:VEVENT
UID:https://thessaloniki.kinimatorama.net/event/133426
DTSTAMP:20220112T070000Z
DESCRIPTION:περισσότερες πληροφορίες: https://thessaloniki.kinimatorama.net
 /event/133426 
DTSTART:20220112T070000Z
DTEND:20220112T080000Z
GEO:+40.633903;+22.95648
LOCATION:Θεσσαλονίκη\, \nΣχολή Θετικών Επιστημών (ΣΘΕ) ΑΠΘ
SUMMARY:Έκτακτο κάλεσμα - Κατάληψη Κοσμητείας ΣΘΕ - Συγκέντρωση αλληλεγγύης
URL:https://thessaloniki.kinimatorama.net/event/133426
END:VEVENT
END:VCALENDAR
