BEGIN:VCALENDAR
VERSION:2.0
PRODID:-//demosphere.net//NONSGML kigkonsult.se iCalcreator 2.22.1//
METHOD:REQUEST
X-WR-TIMEZONE:Europe/Athens
BEGIN:VEVENT
UID:https://thessaloniki.kinimatorama.net/event/133489
DTSTAMP:20220117T070000Z
DESCRIPTION:περισσότερες πληροφορίες: https://thessaloniki.kinimatorama.net
 /event/133489 
DTSTART:20220117T070000Z
DTEND:20220117T080000Z
GEO:+37.995376;+23.743086
LOCATION:Αθήνα\, \nΔικαστήρια Ευελπίδων
SUMMARY:Εκδίκαση της υπόθεσης της μη καταβολής δεδουλευμένων στον απολυμένο
  συνάδελφο Β.Κ.
URL:https://thessaloniki.kinimatorama.net/event/133489
END:VEVENT
END:VCALENDAR
